BEGIN:VCALENDAR
VERSION:2.0
PRODID:-//Maury County Democratic Party - ECPv6.15.18//NONSGML v1.0//EN
CALSCALE:GREGORIAN
METHOD:PUBLISH
X-WR-CALNAME:Maury County Democratic Party
X-ORIGINAL-URL:https://www.maurydems.org
X-WR-CALDESC:Events for Maury County Democratic Party
REFRESH-INTERVAL;VALUE=DURATION:PT1H
X-Robots-Tag:noindex
X-PUBLISHED-TTL:PT1H
BEGIN:VTIMEZONE
TZID:America/Chicago
BEGIN:DAYLIGHT
TZOFFSETFROM:-0600
TZOFFSETTO:-0500
TZNAME:CDT
DTSTART:20230312T080000
END:DAYLIGHT
BEGIN:STANDARD
TZOFFSETFROM:-0500
TZOFFSETTO:-0600
TZNAME:CST
DTSTART:20231105T070000
END:STANDARD
BEGIN:DAYLIGHT
TZOFFSETFROM:-0600
TZOFFSETTO:-0500
TZNAME:CDT
DTSTART:20240310T080000
END:DAYLIGHT
BEGIN:STANDARD
TZOFFSETFROM:-0500
TZOFFSETTO:-0600
TZNAME:CST
DTSTART:20241103T070000
END:STANDARD
BEGIN:DAYLIGHT
TZOFFSETFROM:-0600
TZOFFSETTO:-0500
TZNAME:CDT
DTSTART:20250309T080000
END:DAYLIGHT
BEGIN:STANDARD
TZOFFSETFROM:-0500
TZOFFSETTO:-0600
TZNAME:CST
DTSTART:20251102T070000
END:STANDARD
BEGIN:DAYLIGHT
TZOFFSETFROM:-0600
TZOFFSETTO:-0500
TZNAME:CDT
DTSTART:20260308T080000
END:DAYLIGHT
BEGIN:STANDARD
TZOFFSETFROM:-0500
TZOFFSETTO:-0600
TZNAME:CST
DTSTART:20261101T070000
END:STANDARD
END:VTIMEZONE
BEGIN:VEVENT
DTSTART;TZID=America/Chicago:20251008T183000
DTEND;TZID=America/Chicago:20251008T200000
DTSTAMP:20260420T213052
CREATED:20251003T174550Z
LAST-MODIFIED:20251015T011613Z
UID:2726-1759948200-1759953600@www.maurydems.org
SUMMARY:October 2025 Business Meeting
DESCRIPTION:
URL:https://www.maurydems.org/event/october-2025-business-meeting/
LOCATION:Maury County Senior Center\, 1020 Maury County Park Dr\, Columbia\, TN\, 38401\, United States
CATEGORIES:Regular Meetings
ORGANIZER;CN="Maury County Democratic Party":MAILTO:maurycodems@gmail.com
END:VEVENT
BEGIN:VEVENT
DTSTART;TZID=America/Chicago:20250920T070000
DTEND;TZID=America/Chicago:20250920T120000
DTSTAMP:20260420T213052
CREATED:20250903T025936Z
LAST-MODIFIED:20251015T011613Z
UID:2717-1758351600-1758369600@www.maurydems.org
SUMMARY:Duck River Cleanup
DESCRIPTION:Come join fellow Democrats in supporting Keep Maury Beautiful’s annual Duck River Cleanup. \nIf you have a canoe or kayak\, you can bring it; otherwise just bring yourself and a willingness to help clean up nature. \nLunch will be provided afterward. \nThere are several ways in which you can help: \n\nClean up the River (on foot or in a boat)\nHelp register/check-in attendees at the Riverwalk Park Rotary shelter.\nHelp prepare/serve lunch to volunteers.\nDonate garbage bags or a door prize for volunteers.
URL:https://www.maurydems.org/event/duck-river-cleanup/
LOCATION:Riverwalk Park\, 102 Riverside Dr\, Columbia\, TN\, 38401\, United States
CATEGORIES:Community Event
END:VEVENT
BEGIN:VEVENT
DTSTART;TZID=America/Chicago:20250910T183000
DTEND;TZID=America/Chicago:20250910T200000
DTSTAMP:20260420T213052
CREATED:20250625T225427Z
LAST-MODIFIED:20251015T011613Z
UID:2676-1757529000-1757534400@www.maurydems.org
SUMMARY:September 2025 Business Meeting
DESCRIPTION:
URL:https://www.maurydems.org/event/september-2025-business-meeting/
LOCATION:Maury County Senior Center\, 1020 Maury County Park Dr\, Columbia\, TN\, 38401\, United States
CATEGORIES:Regular Meetings
ORGANIZER;CN="Maury County Democratic Party":MAILTO:maurycodems@gmail.com
END:VEVENT
BEGIN:VEVENT
DTSTART;TZID=America/Chicago:20250906T100000
DTEND;TZID=America/Chicago:20250906T150000
DTSTAMP:20260420T213052
CREATED:20250903T030208Z
LAST-MODIFIED:20251015T011613Z
UID:2720-1757152800-1757170800@www.maurydems.org
SUMMARY:Canvassing and MiniVAN Training
DESCRIPTION:We will hold a training on canvassing and using MiniVAN on Saturday\, September 6\, starting at 10 a.m. This is a training for everyone who wants to help volunteer for the 7th District Special Election this fall\, as well as anyone who wants to get ready to take on Andy Ogles in the 5th District Congressional Election next year.
URL:https://www.maurydems.org/event/canvassing-and-minivan-training/
LOCATION:TN
CATEGORIES:training
END:VEVENT
BEGIN:VEVENT
DTSTART;TZID=America/Chicago:20250813T183000
DTEND;TZID=America/Chicago:20250813T200000
DTSTAMP:20260420T213052
CREATED:20250625T225259Z
LAST-MODIFIED:20251015T011613Z
UID:2674-1755109800-1755115200@www.maurydems.org
SUMMARY:August 2025 Business Meeting
DESCRIPTION:
URL:https://www.maurydems.org/event/august-2025-business-meeting/
LOCATION:Maury County Senior Center\, 1020 Maury County Park Dr\, Columbia\, TN\, 38401\, United States
CATEGORIES:Regular Meetings
ORGANIZER;CN="Maury County Democratic Party":MAILTO:maurycodems@gmail.com
END:VEVENT
BEGIN:VEVENT
DTSTART;TZID=America/Chicago:20250809T100000
DTEND;TZID=America/Chicago:20250809T140000
DTSTAMP:20260420T213052
CREATED:20250801T032523Z
LAST-MODIFIED:20251015T011613Z
UID:2709-1754733600-1754748000@www.maurydems.org
SUMMARY:Aspiring Candidate Information Session
DESCRIPTION:Cand
URL:https://www.maurydems.org/event/aspiring-candidate-information-session/
LOCATION:UAW Local 1853 Hall\, 125 Stephen Yokich Pkwy\, Spring Hill\, TN\, 37174\, United States
CATEGORIES:special event,training
ORGANIZER;CN="Maury County Democratic Party":MAILTO:maurycodems@gmail.com
END:VEVENT
BEGIN:VEVENT
DTSTART;TZID=America/Chicago:20250709T183000
DTEND;TZID=America/Chicago:20250709T200000
DTSTAMP:20260420T213052
CREATED:20250625T225053Z
LAST-MODIFIED:20251015T011613Z
UID:2666-1752085800-1752091200@www.maurydems.org
SUMMARY:July 2025 Business Meeting
DESCRIPTION:
URL:https://www.maurydems.org/event/july-2025-business-meeting/
LOCATION:Maury County Senior Center\, 1020 Maury County Park Dr\, Columbia\, TN\, 38401\, United States
CATEGORIES:Regular Meetings
ORGANIZER;CN="Maury County Democratic Party":MAILTO:maurycodems@gmail.com
END:VEVENT
BEGIN:VEVENT
DTSTART;TZID=America/Chicago:20250630T080000
DTEND;TZID=America/Chicago:20250630T170000
DTSTAMP:20260420T213052
CREATED:20250701T012751Z
LAST-MODIFIED:20251015T011614Z
UID:2680-1751270400-1751302800@www.maurydems.org
SUMMARY:Summertime Sips and Socializing (July Social Event)
DESCRIPTION:Please register here
URL:https://www.maurydems.org/event/summertime-sips-and-socializing-july-social-event/
LOCATION:TN
CATEGORIES:Social
ORGANIZER;CN="Maury County Democratic Party":MAILTO:maurycodems@gmail.com
END:VEVENT
BEGIN:VEVENT
DTSTART;TZID=America/Chicago:20250611T183000
DTEND;TZID=America/Chicago:20250611T200000
DTSTAMP:20260420T213052
CREATED:20250526T025622Z
LAST-MODIFIED:20251015T011614Z
UID:2644-1749666600-1749672000@www.maurydems.org
SUMMARY:June 2025 Business Meeting
DESCRIPTION:
URL:https://www.maurydems.org/event/june-2025-busienss-meeting/
LOCATION:Maury County Senior Center\, 1020 Maury County Park Dr\, Columbia\, TN\, 38401\, United States
CATEGORIES:Regular Meetings
ORGANIZER;CN="Maury County Democratic Party":MAILTO:maurycodems@gmail.com
END:VEVENT
BEGIN:VEVENT
DTSTART;TZID=America/Chicago:20250607T170000
DTEND;TZID=America/Chicago:20250607T220000
DTSTAMP:20260420T213052
CREATED:20250304T215729Z
LAST-MODIFIED:20251015T011614Z
UID:2584-1749315600-1749333600@www.maurydems.org
SUMMARY:Progress Banquet
DESCRIPTION:Progress Banquet To Be Held June 7th; Tables on Sale Now \nWe are excited to announce our 2025 Progress Banquet (formerly known as the Heritage Dinner). \nThe Progress Banquet will be held at UAW Local 1853 Hall (125 Stephen P. Yokich Pkwy in Spring Hill) on Saturday\, June 7\, 2025. The event will start at 6 p.m.\, and we expect to open the doors earlier. \nOur keynote speaker will be Tennessee State Senator Charlane Oliver of Nashville. We will also have inspiring speeches from Justin Kanew of the Tennessee Holler and Tennessee Brando. \nTickets will be $50 per person\, and tables of eight may be had for a donation of $400. To get tickets\, please see our ActBlue page for tickets. \nTickets include a catered barbecue meal\, and beverages. We are currently working on securing speakers\, and will soon be taking nominations for award winners. Please watch for more information. \nWe also welcome sponsorships from interested individuals and local businesses. Each year we have brought in about 150-200 attendees. Although some of the benefits of sponsorship are no longer available (such as being on the printed event banner)\, If you are interested in being a sponsor\, please see our ActBlue page for sponsorships. \nPlease contact us at banquet@maurydems.org for more information.
URL:https://www.maurydems.org/event/progress-dinner/
LOCATION:UAW Local 1853 Hall\, 125 Stephen Yokich Pkwy\, Spring Hill\, TN\, 37174\, United States
CATEGORIES:Fundraiser,Social
ORGANIZER;CN="Maury County Democratic Party":MAILTO:maurycodems@gmail.com
END:VEVENT
BEGIN:VEVENT
DTSTART;TZID=America/Chicago:20250514T183000
DTEND;TZID=America/Chicago:20250514T200000
DTSTAMP:20260420T213052
CREATED:20250505T010005Z
LAST-MODIFIED:20251015T011614Z
UID:2611-1747247400-1747252800@www.maurydems.org
SUMMARY:May 2025 General Meeting
DESCRIPTION:
URL:https://www.maurydems.org/event/may-2025-general-meeting/
LOCATION:Maury County Senior Center\, 1020 Maury County Park Dr\, Columbia\, TN\, 38401\, United States
CATEGORIES:Regular Meetings
ORGANIZER;CN="Maury County Democratic Party":MAILTO:maurycodems@gmail.com
END:VEVENT
BEGIN:VEVENT
DTSTART;TZID=America/Chicago:20250513T180000
DTEND;TZID=America/Chicago:20250513T200000
DTSTAMP:20260420T213052
CREATED:20250505T020723Z
LAST-MODIFIED:20251015T011614Z
UID:2622-1747159200-1747166400@www.maurydems.org
SUMMARY:Democratic Women Meeting
DESCRIPTION:The Democratic Women will meet at Catfish Campus on Tuesday\, May 13\, at 6:30 p.m. Please arrive early if you would like to eat dinner (6 p.m.).
URL:https://www.maurydems.org/event/democratic-women-meeting/
LOCATION:Catfish Campus\, 2509 Keith Ln\, Columbia\, TN\, 38401\, United States
CATEGORIES:Clubs,Social
END:VEVENT
BEGIN:VEVENT
DTSTART;TZID=America/Chicago:20250507T190000
DTEND;TZID=America/Chicago:20250507T210000
DTSTAMP:20260420T213052
CREATED:20250505T020307Z
LAST-MODIFIED:20251015T011614Z
UID:2615-1746644400-1746651600@www.maurydems.org
SUMMARY:May 2025 Social Event
DESCRIPTION:
URL:https://www.maurydems.org/event/may-2025-social-event/
LOCATION:TN
CATEGORIES:Social
ORGANIZER;CN="Maury County Democratic Party":MAILTO:maurycodems@gmail.com
END:VEVENT
BEGIN:VEVENT
DTSTART;TZID=America/Chicago:20250412T100000
DTEND;TZID=America/Chicago:20250412T130000
DTSTAMP:20260420T213052
CREATED:20250217T235836Z
LAST-MODIFIED:20251015T011614Z
UID:2571-1744452000-1744462800@www.maurydems.org
SUMMARY:Biennial Reorganization Convention
DESCRIPTION:A meeting of our new Executive Committee will follow the conclusion of the Convention. \n\nPlease fill out this form to pre-register for our 2025 Reorganization Convention \n\n\n\nhttps://www.maurydems.org/register2025
URL:https://www.maurydems.org/event/biennial-reorganization-convention/
LOCATION:Maury County Senior Center\, 1020 Maury County Park Dr\, Columbia\, TN\, 38401\, United States
CATEGORIES:Community Event,Conventions,Regular Meetings
ORGANIZER;CN="Maury County Democratic Party":MAILTO:maurycodems@gmail.com
END:VEVENT
BEGIN:VEVENT
DTSTART;TZID=America/Chicago:20250410T070000
DTEND;TZID=America/Chicago:20250410T190000
DTSTAMP:20260420T213052
CREATED:20250304T215924Z
LAST-MODIFIED:20251015T011614Z
UID:2586-1744268400-1744311600@www.maurydems.org
SUMMARY:Spring Hill Municipal Election
DESCRIPTION:
URL:https://www.maurydems.org/event/spring-hill-municipal-election/
LOCATION:TN
CATEGORIES:Voting
END:VEVENT
BEGIN:VEVENT
DTSTART;TZID=America/Chicago:20250321T080000
DTEND;TZID=America/Chicago:20250405T153000
DTSTAMP:20260420T213052
CREATED:20250304T220121Z
LAST-MODIFIED:20251015T011614Z
UID:2589-1742544000-1743867000@www.maurydems.org
SUMMARY:Spring Hill Municipal Election Early Voting
DESCRIPTION:ci
URL:https://www.maurydems.org/event/spring-hill-municipal-election-early-voting/
LOCATION:TN
CATEGORIES:GOTV,Voting
END:VEVENT
BEGIN:VEVENT
DTSTART;TZID=America/Chicago:20250312T183000
DTEND;TZID=America/Chicago:20250312T200000
DTSTAMP:20260420T213052
CREATED:20250214T064312Z
LAST-MODIFIED:20250214T064312Z
UID:2560-1741804200-1741809600@www.maurydems.org
SUMMARY:March 2025 Business Meeting
DESCRIPTION:
URL:https://www.maurydems.org/event/march-2025-business-meeting/
LOCATION:Maury County Senior Center\, 1020 Maury County Park Dr\, Columbia\, TN\, 38401\, United States
CATEGORIES:Regular Meetings
ORGANIZER;CN="Maury County Democratic Party":MAILTO:maurycodems@gmail.com
END:VEVENT
BEGIN:VEVENT
DTSTART;TZID=America/Chicago:20250226T180000
DTEND;TZID=America/Chicago:20250226T210000
DTSTAMP:20260420T213052
CREATED:20250214T064529Z
LAST-MODIFIED:20250214T065038Z
UID:2563-1740592800-1740603600@www.maurydems.org
SUMMARY:Call-to-Action Chat-and-Chew
DESCRIPTION:
URL:https://www.maurydems.org/event/call-to-action-chat-and-chew/
LOCATION:Maury County Senior Center\, 1020 Maury County Park Dr\, Columbia\, TN\, 38401\, United States
CATEGORIES:Community Event,Social
ORGANIZER;CN="Maury County Democratic Party":MAILTO:maurycodems@gmail.com
END:VEVENT
BEGIN:VEVENT
DTSTART;TZID=America/Chicago:20250212T183000
DTEND;TZID=America/Chicago:20250212T200000
DTSTAMP:20260420T213052
CREATED:20250119T005621Z
LAST-MODIFIED:20250119T005621Z
UID:2554-1739385000-1739390400@www.maurydems.org
SUMMARY:February 2025 Meeting
DESCRIPTION:
URL:https://www.maurydems.org/event/february-2025-meeting/
LOCATION:Maury County Senior Center\, 1020 Maury County Park Dr\, Columbia\, TN\, 38401\, United States
CATEGORIES:Regular Meetings
ORGANIZER;CN="Maury County Democratic Party":MAILTO:maurycodems@gmail.com
END:VEVENT
BEGIN:VEVENT
DTSTART;TZID=America/Chicago:20250108T183000
DTEND;TZID=America/Chicago:20250108T200000
DTSTAMP:20260420T213052
CREATED:20241231T050953Z
LAST-MODIFIED:20241231T050953Z
UID:2550-1736361000-1736366400@www.maurydems.org
SUMMARY:January 2025 Meeting
DESCRIPTION:
URL:https://www.maurydems.org/event/january-2025-meeting/
LOCATION:Maury County Senior Center\, 1020 Maury County Park Dr\, Columbia\, TN\, 38401\, United States
CATEGORIES:Regular Meetings
ORGANIZER;CN="Maury County Democratic Party":MAILTO:maurycodems@gmail.com
END:VEVENT
BEGIN:VEVENT
DTSTART;TZID=America/Chicago:20241211T183000
DTEND;TZID=America/Chicago:20241211T203000
DTSTAMP:20260420T213052
CREATED:20241128T181455Z
LAST-MODIFIED:20241128T181455Z
UID:2544-1733941800-1733949000@www.maurydems.org
SUMMARY:December Meeting and Holiday Potluck
DESCRIPTION:Our monthly meeting\, plus also a small potluck meal. Sign-up sheet for potluck is here:\nhttps://docs.google.com/forms/d/e/1FAIpQLSeBpKHnSM7x8l-NYFZrdI_raO3Fu16iNBUaAk2yGLNsQC-zFg/viewform \nTo see what other people are bringing\, click here:\nhttps://docs.google.com/forms/d/e/1FAIpQLSeBpKHnSM7x8l-NYFZrdI_raO3Fu16iNBUaAk2yGLNsQC-zFg/viewanalytics
URL:https://www.maurydems.org/event/december-meeting-and-holiday-potluck/
LOCATION:Maury County Senior Center\, 1020 Maury County Park Dr\, Columbia\, TN\, 38401\, United States
CATEGORIES:Regular Meetings,Social
ORGANIZER;CN="Maury County Democratic Party":MAILTO:maurycodems@gmail.com
END:VEVENT
BEGIN:VEVENT
DTSTART;TZID=America/Chicago:20241105T070000
DTEND;TZID=America/Chicago:20241105T190000
DTSTAMP:20260420T213052
CREATED:20230114T182113Z
LAST-MODIFIED:20230114T191925Z
UID:1873-1730790000-1730833200@www.maurydems.org
SUMMARY:Election Day
DESCRIPTION:Election for federal and statewide offices.
URL:https://www.maurydems.org/event/election-day-2/
LOCATION:TN
CATEGORIES:2024 Election Dates,Voting
END:VEVENT
BEGIN:VEVENT
DTSTART;VALUE=DATE:20241016
DTEND;VALUE=DATE:20241101
DTSTAMP:20260420T213052
CREATED:20240823T185430Z
LAST-MODIFIED:20240823T185430Z
UID:2525-1729036800-1730419199@www.maurydems.org
SUMMARY:Early Voting for 2024 General Election
DESCRIPTION:Please visit govotetn.gov for more information. \nEARLY VOTING HOURS / LOCATIONS IN MAURY COUNTY \nMaury County Election Commission\n1207 Tradewinds Drive in Columbia\nOctober 16-26\, 8 a.m. – 4 p.m. and\nOctober 28-31\, 8 a.m. – 7 p.m. \nSpring Hill Public Library\n144 Kedron Pkwy in Spring Hill\nOctober 21-26\, 8 a.m. – 4 p.m.
URL:https://www.maurydems.org/event/early-voting-for-2024-general-election/
LOCATION:Maury County Election Commission\, 1207 Tradewinds Drive\, Columbia\, TN\, 38401\, United States
CATEGORIES:2024 Election Dates,Voting
END:VEVENT
BEGIN:VEVENT
DTSTART;TZID=America/Chicago:20241009T183000
DTEND;TZID=America/Chicago:20241009T203000
DTSTAMP:20260420T213052
CREATED:20240613T050507Z
LAST-MODIFIED:20240613T050507Z
UID:2485-1728498600-1728505800@www.maurydems.org
SUMMARY:October 2024 General Meeting
DESCRIPTION:
URL:https://www.maurydems.org/event/october-2024-general-meeting/
LOCATION:Maury County Senior Center\, 1020 Maury County Park Dr\, Columbia\, TN\, 38401\, United States
CATEGORIES:Regular Meetings
ORGANIZER;CN="Maury County Democratic Party":MAILTO:maurycodems@gmail.com
END:VEVENT
BEGIN:VEVENT
DTSTART;VALUE=DATE:20241007
DTEND;VALUE=DATE:20241008
DTSTAMP:20260420T213052
CREATED:20240823T184905Z
LAST-MODIFIED:20240823T184921Z
UID:2522-1728259200-1728345599@www.maurydems.org
SUMMARY:Voter Registration Deadline for 2024 General Election
DESCRIPTION:Please visit govotetn.gov for more information.
URL:https://www.maurydems.org/event/voter-registration-deadline-for-2024-general-election/
LOCATION:Maury County Election Commission\, 1207 Tradewinds Drive\, Columbia\, TN\, 38401\, United States
CATEGORIES:Voting
END:VEVENT
BEGIN:VEVENT
DTSTART;TZID=America/Chicago:20240911T183000
DTEND;TZID=America/Chicago:20240911T203000
DTSTAMP:20260420T213052
CREATED:20240613T050258Z
LAST-MODIFIED:20240613T050258Z
UID:2482-1726079400-1726086600@www.maurydems.org
SUMMARY:September 2024 General Meeting
DESCRIPTION:
URL:https://www.maurydems.org/event/september-2024-general-meeting/
LOCATION:Maury County Senior Center\, 1020 Maury County Park Dr\, Columbia\, TN\, 38401\, United States
CATEGORIES:Regular Meetings
ORGANIZER;CN="Maury County Democratic Party":MAILTO:maurycodems@gmail.com
END:VEVENT
BEGIN:VEVENT
DTSTART;TZID=America/Chicago:20240902T110000
DTEND;TZID=America/Chicago:20240902T140000
DTSTAMP:20260420T213052
CREATED:20240813T190653Z
LAST-MODIFIED:20240813T190653Z
UID:2503-1725274800-1725285600@www.maurydems.org
SUMMARY:Labor Day Picnic
DESCRIPTION:
URL:https://www.maurydems.org/event/labor-day-picnic/
LOCATION:Riverwalk Park\, 102 Riverside Dr\, Columbia\, TN\, 38401\, United States
CATEGORIES:Community Event,Social
ORGANIZER;CN="Maury County Democratic Party":MAILTO:maurycodems@gmail.com
END:VEVENT
BEGIN:VEVENT
DTSTART;VALUE=DATE:20240819
DTEND;VALUE=DATE:20240823
DTSTAMP:20260420T213052
CREATED:20230620T155309Z
LAST-MODIFIED:20230620T155309Z
UID:2157-1724025600-1724371199@www.maurydems.org
SUMMARY:Democratic National Convention
DESCRIPTION:The 2024 Democratic National Convention will be held in Chicago\, Illinois. \nFor more information about being a DNC delegate\, please see: Delegate Selection – TNDP.
URL:https://www.maurydems.org/event/democratic-national-convention/
LOCATION:TN
CATEGORIES:Conventions,Voting
END:VEVENT
BEGIN:VEVENT
DTSTART;TZID=America/Chicago:20240814T183000
DTEND;TZID=America/Chicago:20240814T203000
DTSTAMP:20260420T213052
CREATED:20240613T044807Z
LAST-MODIFIED:20240613T045128Z
UID:2469-1723660200-1723667400@www.maurydems.org
SUMMARY:August 2024 General Meeting
DESCRIPTION:
URL:https://www.maurydems.org/event/august-2024-general-meeting/
LOCATION:Maury County Senior Center\, 1020 Maury County Park Dr\, Columbia\, TN\, 38401\, United States
CATEGORIES:Regular Meetings
ORGANIZER;CN="Maury County Democratic Party":MAILTO:maurycodems@gmail.com
END:VEVENT
BEGIN:VEVENT
DTSTART;TZID=America/Chicago:20240801T070000
DTEND;TZID=America/Chicago:20240801T190000
DTSTAMP:20260420T213052
CREATED:20230114T182345Z
LAST-MODIFIED:20230114T191919Z
UID:1878-1722495600-1722538800@www.maurydems.org
SUMMARY:State Primary / Local General Election Day
DESCRIPTION:Election to elect school board members as well as choose party nominees for state legislature and U.S. Congress.
URL:https://www.maurydems.org/event/state-primary-local-general-election-day/
LOCATION:TN
CATEGORIES:2024 Election Dates,Voting
END:VEVENT
END:VCALENDAR