BEGIN:VCALENDAR
VERSION:2.0
PRODID:-//Maury County Democratic Party - ECPv6.15.18//NONSGML v1.0//EN
CALSCALE:GREGORIAN
METHOD:PUBLISH
X-WR-CALNAME:Maury County Democratic Party
X-ORIGINAL-URL:https://www.maurydems.org
X-WR-CALDESC:Events for Maury County Democratic Party
REFRESH-INTERVAL;VALUE=DURATION:PT1H
X-Robots-Tag:noindex
X-PUBLISHED-TTL:PT1H
BEGIN:VTIMEZONE
TZID:America/Chicago
BEGIN:DAYLIGHT
TZOFFSETFROM:-0600
TZOFFSETTO:-0500
TZNAME:CDT
DTSTART:20250309T080000
END:DAYLIGHT
BEGIN:STANDARD
TZOFFSETFROM:-0500
TZOFFSETTO:-0600
TZNAME:CST
DTSTART:20251102T070000
END:STANDARD
BEGIN:DAYLIGHT
TZOFFSETFROM:-0600
TZOFFSETTO:-0500
TZNAME:CDT
DTSTART:20260308T080000
END:DAYLIGHT
BEGIN:STANDARD
TZOFFSETFROM:-0500
TZOFFSETTO:-0600
TZNAME:CST
DTSTART:20261101T070000
END:STANDARD
BEGIN:DAYLIGHT
TZOFFSETFROM:-0600
TZOFFSETTO:-0500
TZNAME:CDT
DTSTART:20270314T080000
END:DAYLIGHT
BEGIN:STANDARD
TZOFFSETFROM:-0500
TZOFFSETTO:-0600
TZNAME:CST
DTSTART:20271107T070000
END:STANDARD
END:VTIMEZONE
BEGIN:VEVENT
DTSTART;TZID=America/Chicago:20260606T170000
DTEND;TZID=America/Chicago:20260606T220000
DTSTAMP:20260420T160613
CREATED:20260203T194647Z
LAST-MODIFIED:20260313T205719Z
UID:2879-1780765200-1780783200@www.maurydems.org
SUMMARY:2026 Progress Banquet
DESCRIPTION:On Saturday\, June 6\, 2026\, the Maury County Democratic Party and the UAW Local 1853 CAP Committee will host the 2026 Progress Banquet. This is our annual fundraiser dinner. \nDoors open at 5 p.m. and the event will start at 6 p.m. The main speakers this year will be candidates for office. \nSingle tickets are being offered to individuals who donate $60 or more. \nPlease click here to get your tickets.
URL:https://www.maurydems.org/event/save-the-date-2026-progress-banquet/
LOCATION:UAW Local 1853 Hall\, 125 Stephen Yokich Pkwy\, Spring Hill\, TN\, 37174\, United States
CATEGORIES:Fundraiser
ORGANIZER;CN="Maury County Democratic Party":MAILTO:maurycodems@gmail.com
END:VEVENT
END:VCALENDAR